BEGIN:VCALENDAR
VERSION:2.0
PRODID: Ultiorganizer


BEGIN:VEVENT
SUMMARY:BEL GMO-ESP GMO
DESCRIPTION:Grand Master Open: Pool A
LOCATION:  Stadium
DTSTART;TZID=Europe/Stockholm:20250717T122000
DURATION: P100M
GEO:;
END:VEVENT

BEGIN:VEVENT
SUMMARY:BEL GMO-FRA GMO
DESCRIPTION:Grand Master Open: Pool A
LOCATION:  2
DTSTART;TZID=Europe/Stockholm:20250717T154000
DURATION: P100M
GEO:;
END:VEVENT

BEGIN:VEVENT
SUMMARY:GER GMO-BEL GMO
DESCRIPTION:Grand Master Open: Pool A
LOCATION:  4
DTSTART;TZID=Europe/Stockholm:20250718T104000
DURATION: P100M
GEO:;
END:VEVENT

BEGIN:VEVENT
SUMMARY:GBR GMO-BEL GMO
DESCRIPTION:Grand Master Open: Pool A
LOCATION:  2
DTSTART;TZID=Europe/Stockholm:20250718T154000
DURATION: P100M
GEO:;
END:VEVENT

BEGIN:VEVENT
SUMMARY:BEL GMO-ESP GMO
DESCRIPTION:Grand Master Open: Crossover
LOCATION:  4
DTSTART;TZID=Europe/Stockholm:20250719T154000
DURATION: P100M
GEO:;
END:VEVENT

BEGIN:VEVENT
SUMMARY:GER GMO-BEL GMO
DESCRIPTION:Grand Master Open: Placement Games
LOCATION:  2
DTSTART;TZID=Europe/Stockholm:20250720T090000
DURATION: P100M
GEO:;
END:VEVENT

END:VCALENDAR
