BEGIN:VCALENDAR
VERSION:2.0
PRODID: Ultiorganizer


BEGIN:VEVENT
SUMMARY:BEL MX-GER MX
DESCRIPTION:Master Mixed: Pool A
LOCATION:  1
DTSTART;TZID=Europe/Stockholm:20250717T104000
DURATION: P100M
GEO:;
END:VEVENT

BEGIN:VEVENT
SUMMARY:BEL MX-POL MX
DESCRIPTION:Master Mixed: Pool A
LOCATION:  6
DTSTART;TZID=Europe/Stockholm:20250717T140000
DURATION: P100M
GEO:;
END:VEVENT

BEGIN:VEVENT
SUMMARY:BEL MX-AUT MX
DESCRIPTION:Master Mixed: Pool A
LOCATION:  2
DTSTART;TZID=Europe/Stockholm:20250717T172000
DURATION: P100M
GEO:;
END:VEVENT

BEGIN:VEVENT
SUMMARY:SWE MX-BEL MX
DESCRIPTION:Master Mixed: Pool A
LOCATION:  5
DTSTART;TZID=Europe/Stockholm:20250718T104000
DURATION: P100M
GEO:;
END:VEVENT

BEGIN:VEVENT
SUMMARY:GBR MX-BEL MX
DESCRIPTION:Master Mixed: Pool A
LOCATION:  3
DTSTART;TZID=Europe/Stockholm:20250718T140000
DURATION: P100M
GEO:;
END:VEVENT

BEGIN:VEVENT
SUMMARY:NED MX-BEL MX
DESCRIPTION:Master Mixed: Pool A
LOCATION:  1
DTSTART;TZID=Europe/Stockholm:20250719T122000
DURATION: P100M
GEO:;
END:VEVENT

BEGIN:VEVENT
SUMMARY:BEL MX-GER MX
DESCRIPTION:Master Mixed: Bracket 1-4
LOCATION:  1
DTSTART;TZID=Europe/Stockholm:20250719T172000
DURATION: P100M
GEO:;
END:VEVENT

BEGIN:VEVENT
SUMMARY:BEL MX-SWE MX
DESCRIPTION:Master Mixed: Bracket 1-4 Finals
LOCATION:  1
DTSTART;TZID=Europe/Stockholm:20250720T154000
DURATION: P100M
GEO:;
END:VEVENT

END:VCALENDAR
