BEGIN:VCALENDAR
VERSION:2.0
PRODID: Ultiorganizer


BEGIN:VEVENT
SUMMARY:BEL MW-GER MW
DESCRIPTION:Master Women: Pool A
LOCATION:  4
DTSTART;TZID=Europe/Stockholm:20250717T090000
DURATION: P100M
GEO:;
END:VEVENT

BEGIN:VEVENT
SUMMARY:FIN MW-BEL MW
DESCRIPTION:Master Women: Pool A
LOCATION:  3
DTSTART;TZID=Europe/Stockholm:20250717T122000
DURATION: P100M
GEO:;
END:VEVENT

BEGIN:VEVENT
SUMMARY:FRA MW-BEL MW
DESCRIPTION:Master Women: Pool A
LOCATION:  5
DTSTART;TZID=Europe/Stockholm:20250717T154000
DURATION: P100M
GEO:;
END:VEVENT

BEGIN:VEVENT
SUMMARY:SUI MW-BEL MW
DESCRIPTION:Master Women: Power Pool D
LOCATION:  Stadium
DTSTART;TZID=Europe/Stockholm:20250718T090000
DURATION: P100M
GEO:;
END:VEVENT

BEGIN:VEVENT
SUMMARY:BEL MW-CZE MW
DESCRIPTION:Master Women: Power Pool D
LOCATION:  6
DTSTART;TZID=Europe/Stockholm:20250718T122000
DURATION: P100M
GEO:;
END:VEVENT

BEGIN:VEVENT
SUMMARY:CZE MW-BEL MW
DESCRIPTION:Master Women: Bracket 5-8
LOCATION:  6
DTSTART;TZID=Europe/Stockholm:20250719T122000
DURATION: P100M
GEO:;
END:VEVENT

BEGIN:VEVENT
SUMMARY:GER MW-BEL MW
DESCRIPTION:Master Women: Bracket 5-8 Finals
LOCATION:  4
DTSTART;TZID=Europe/Stockholm:20250720T104000
DURATION: P100M
GEO:;
END:VEVENT

END:VCALENDAR
