BEGIN:VCALENDAR
VERSION:2.0
PRODID: Ultiorganizer


BEGIN:VEVENT
SUMMARY:BEL MO-FIN MO
DESCRIPTION:Master Open: Pool A
LOCATION:  1
DTSTART;TZID=Europe/Stockholm:20250717T090000
DURATION: P100M
GEO:;
END:VEVENT

BEGIN:VEVENT
SUMMARY:ESP MO-BEL MO
DESCRIPTION:Master Open: Pool A
LOCATION:  2
DTSTART;TZID=Europe/Stockholm:20250717T140000
DURATION: P100M
GEO:;
END:VEVENT

BEGIN:VEVENT
SUMMARY:BEL MO-GER MO
DESCRIPTION:Master Open: Pool A
LOCATION:  4
DTSTART;TZID=Europe/Stockholm:20250718T090000
DURATION: P100M
GEO:;
END:VEVENT

BEGIN:VEVENT
SUMMARY:NOR MO-BEL MO
DESCRIPTION:Master Open: Pool A
LOCATION:  5
DTSTART;TZID=Europe/Stockholm:20250718T122000
DURATION: P100M
GEO:;
END:VEVENT

BEGIN:VEVENT
SUMMARY:GBR MO-BEL MO
DESCRIPTION:Master Open: Pool A
LOCATION:  4
DTSTART;TZID=Europe/Stockholm:20250718T154000
DURATION: P100M
GEO:;
END:VEVENT

BEGIN:VEVENT
SUMMARY:BEL MO-CZE MO
DESCRIPTION:Master Open: Crossover
LOCATION:  6
DTSTART;TZID=Europe/Stockholm:20250719T104000
DURATION: P100M
GEO:;
END:VEVENT

BEGIN:VEVENT
SUMMARY:POL MO-BEL MO
DESCRIPTION:Master Open: Bracket 5-8
LOCATION:  2
DTSTART;TZID=Europe/Stockholm:20250719T140000
DURATION: P100M
GEO:;
END:VEVENT

BEGIN:VEVENT
SUMMARY:BEL MO-ESP MO
DESCRIPTION:Master Open: Bracket 5-8 Finals
LOCATION:  6
DTSTART;TZID=Europe/Stockholm:20250720T104000
DURATION: P100M
GEO:;
END:VEVENT

END:VCALENDAR
